BEGIN:VCALENDAR
VERSION:2.0
PRODID:-//wp-events-plugin.com//7.2.3.1//EN
TZID:America/Chicago
X-WR-TIMEZONE:America/Chicago
BEGIN:VEVENT
UID:52@writersguildacadiana.org
DTSTART;TZID=America/Chicago:20260428T180000
DTEND;TZID=America/Chicago:20260428T193000
DTSTAMP:20260413T032815Z
URL:https://writersguildacadiana.org/events/monthly-meeting-speaker-2026-0
 4-28/
SUMMARY:Monthly Meeting of the WGA
DESCRIPTION:A panel of experts (John Comeaux and Ed Gauthier) will present 
 all the information they have acquired through their experience publishing
  their works. And a free handout from Gorham printing will add details. Th
 e topics we will cover (too numerous to mention) include Paperback / Hardc
 over\, Book Design\, Cover information\, ISBN\, Keywords\, and pricing\, p
 lus many more. There will be time for your questions and input\, especiall
 y if you also have experience publishing. Be at the South Regional Library
  6 p.m. and be informed.
CATEGORIES:Monthly
LOCATION:South Regional Public Library\, 6101 Johnston St.\, Lafayette\, LA
 \, 70503\, United States
X-APPLE-STRUCTURED-LOCATION;VALUE=URI;X-ADDRESS=6101 Johnston St.\, Lafayet
 te\, LA\, 70503\, United States;X-APPLE-RADIUS=100;X-TITLE=South Regional 
 Public Library:geo:0,0
END:VEVENT
BEGIN:VTIMEZONE
TZID:America/Chicago
X-LIC-LOCATION:America/Chicago
BEGIN:DAYLIGHT
DTSTART:20260308T030000
TZOFFSETFROM:-0600
TZOFFSETTO:-0500
TZNAME:CDT
END:DAYLIGHT
END:VTIMEZONE
END:VCALENDAR