BEGIN:VCALENDAR
VERSION:2.0
PRODID:-//wp-events-plugin.com//7.2.3.1//EN
TZID:America/Chicago
X-WR-TIMEZONE:America/Chicago
BEGIN:VEVENT
UID:95@writersguildacadiana.org
DTSTART;TZID=America/Chicago:20260929T180000
DTEND;TZID=America/Chicago:20260929T193000
DTSTAMP:20260223T161048Z
URL:https://writersguildacadiana.org/events/monthly-meeting-speaker-2026-0
 9-29/
SUMMARY:Monthly Meeting of the WGA
DESCRIPTION:TBD speaker or other activity
CATEGORIES:Monthly
END:VEVENT
BEGIN:VTIMEZONE
TZID:America/Chicago
X-LIC-LOCATION:America/Chicago
BEGIN:DAYLIGHT
DTSTART:20260308T030000
TZOFFSETFROM:-0600
TZOFFSETTO:-0500
TZNAME:CDT
END:DAYLIGHT
END:VTIMEZONE
END:VCALENDAR