BEGIN:VCALENDAR
VERSION:2.0
PRODID:-//wp-events-plugin.com//7.2.3.1//EN
TZID:America/Chicago
X-WR-TIMEZONE:America/Chicago
BEGIN:VEVENT
UID:75@writersguildacadiana.org
DTSTART;TZID=America/Chicago:20260924T190000
DTEND;TZID=America/Chicago:20260924T210000
DTSTAMP:20250929T053106Z
URL:https://writersguildacadiana.org/events/wgacadiana-critique-2026-09-24
 /
SUMMARY:WGAcadiana Critique
DESCRIPTION:The general writing group meets online in Google Meet\, the sec
 ond and fourth Thursday of every month.\n\nIf you would like to participat
 e\, send email to eggchess@gmail.com or call 337-945-5718 for more details
  and joining instructions.\n\nMore details here.
CATEGORIES:Group
END:VEVENT
BEGIN:VTIMEZONE
TZID:America/Chicago
X-LIC-LOCATION:America/Chicago
BEGIN:DAYLIGHT
DTSTART:20260308T030000
TZOFFSETFROM:-0600
TZOFFSETTO:-0500
TZNAME:CDT
END:DAYLIGHT
END:VTIMEZONE
END:VCALENDAR